BEGIN:VCALENDAR
VERSION:2.0
CALSCALE:GREGORIAN
PRODID:-//Diputació de Barcelona//DibaCMS//EN
BEGIN:VEVENT
UID:1663
DTSTAMP:20260422T102714
DTSTART:20190201T213000
DTEND:20190201T230000
SUMMARY:Teatre LA IMPORTÀNCIA DE SER FRANK
LOCATION:
METHOD:PUBLISH
X-WR-CALNAME:perafita@perafita.cat
X-WR-TIMEZONE:Europe/Madrid
DESCRIPTION:
URI:https://www.perafita.cat/actualitat/agenda/teatre-la-importancia-de-ser-frank.html
CLASS:PUBLIC
END:VEVENT
END:VCALENDAR
