BEGIN:VCALENDAR
VERSION:2.0
CALSCALE:GREGORIAN
PRODID:-//Diputació de Barcelona//DibaCMS//EN
BEGIN:VEVENT
UID:1658
DTSTAMP:20260422T120002
DTSTART:20190105T193000
DTEND:20190105T230000
SUMMARY:Arribada dels Reis d'Orient i Cavalcada
LOCATION:
METHOD:PUBLISH
X-WR-CALNAME:perafita@perafita.cat
X-WR-TIMEZONE:Europe/Madrid
DESCRIPTION:
URI:https://www.perafita.cat/actualitat/agenda/arribada-dels-reis-dorient-i-cavalcada.html
CLASS:PUBLIC
END:VEVENT
END:VCALENDAR
