BEGIN:VCALENDAR
VERSION:2.0
CALSCALE:GREGORIAN
PRODID:-//Diputació de Barcelona//DibaCMS//EN
BEGIN:VEVENT
UID:1656
DTSTAMP:20260422T102112
DTSTART:20190128T090000
DTEND:20190128T170000
SUMMARY:Passejada al Parc Natural de la muntanya de Montserrat
LOCATION:
METHOD:PUBLISH
X-WR-CALNAME:perafita@perafita.cat
X-WR-TIMEZONE:Europe/Madrid
DESCRIPTION:
URI:https://www.perafita.cat/actualitat/agenda/1656-passejada-al-parc-natural-de-la-muntanya-de-montserrat.html
CLASS:PUBLIC
END:VEVENT
END:VCALENDAR
