BEGIN:VCALENDAR
VERSION:2.0
CALSCALE:GREGORIAN
PRODID:-//Diputació de Barcelona//DibaCMS//EN
BEGIN:VEVENT
UID:1651
DTSTAMP:20260420T092212
DTSTART:20181227T163000
DTEND:20181227T180000
SUMMARY:Circ 
LOCATION:Carretera Vella, s/n 08589 Perafita
METHOD:PUBLISH
X-WR-CALNAME:perafita@perafita.cat
X-WR-TIMEZONE:Europe/Madrid
DESCRIPTION:Valors Up viu l'esport a Perafita

Taller de circ a partir de 3 anys

Gratuït

 

URI:https://www.perafita.cat/actualitat/agenda/circ-.html
CLASS:PUBLIC
END:VEVENT
END:VCALENDAR
