BEGIN:VCALENDAR
VERSION:2.0
CALSCALE:GREGORIAN
PRODID:-//Diputació de Barcelona//DibaCMS//EN
BEGIN:VEVENT
UID:1650
DTSTAMP:20260420T092339
DTSTART:20181217T110000
DTEND:20181217T123000
SUMMARY:Concert de la banda de l’escola Heurom de Perafita
LOCATION:
METHOD:PUBLISH
X-WR-CALNAME:perafita@perafita.cat
X-WR-TIMEZONE:Europe/Madrid
DESCRIPTION:
URI:https://www.perafita.cat/actualitat/agenda/concert-de-la-banda-de-lescola-heurom-de-perafita.html
CLASS:PUBLIC
END:VEVENT
END:VCALENDAR
