BEGIN:VCALENDAR
VERSION:2.0
CALSCALE:GREGORIAN
PRODID:-//Diputació de Barcelona//DibaCMS//EN
BEGIN:VEVENT
UID:1646
DTSTAMP:20260420T092303
DTSTART:20181202T120000
DTEND:20181202T130000
SUMMARY:Presentació del 3r conte de la Bruixa de Perafita
LOCATION:
METHOD:PUBLISH
X-WR-CALNAME:perafita@perafita.cat
X-WR-TIMEZONE:Europe/Madrid
DESCRIPTION:
URI:https://www.perafita.cat/actualitat/agenda/presentacio-del-3r-conte-de-la-bruixa-de-perafita.html
CLASS:PUBLIC
END:VEVENT
END:VCALENDAR
