BEGIN:VCALENDAR
VERSION:2.0
CALSCALE:GREGORIAN
PRODID:-//Diputació de Barcelona//DibaCMS//EN
BEGIN:VEVENT
UID:1645
DTSTAMP:20260422T120328
DTSTART:20181216T080000
DTEND:20181216T190000
SUMMARY:Perafita amb La Marató 2018
LOCATION:
METHOD:PUBLISH
X-WR-CALNAME:perafita@perafita.cat
X-WR-TIMEZONE:Europe/Madrid
DESCRIPTION:Actes per a tots els gustos durant tot el diumenge 16 de desembre, a benefici de La Marató de TV3: caminada, esmorzar, pàdel, dinar popular, bingo....

URI:https://www.perafita.cat/actualitat/agenda/perafita-amb-la-marato-2018.html
CLASS:PUBLIC
END:VEVENT
END:VCALENDAR
