BEGIN:VCALENDAR
VERSION:2.0
CALSCALE:GREGORIAN
PRODID:-//Diputació de Barcelona//DibaCMS//EN
BEGIN:VEVENT
UID:1625
DTSTAMP:20260420T184002
DTSTART:20181123T190000
DTEND:20181123T210000
SUMMARY:Presentació del llibre "Robots, tòtils i cacanòries"
LOCATION:
METHOD:PUBLISH
X-WR-CALNAME:perafita@perafita.cat
X-WR-TIMEZONE:Europe/Madrid
DESCRIPTION:El divendres 23 de novembre a les 7 de la tarda, la Biblioteca Municipal de Perafita acull la presentació del llibre "Robots, tòtils i cacanòries", d'Esther Pujadas i Nan Orriols.

URI:https://www.perafita.cat/actualitat/agenda/presentacio-del-llibre-robots-totils-i-cacanories.html
CLASS:PUBLIC
END:VEVENT
END:VCALENDAR
