BEGIN:VCALENDAR
VERSION:2.0
CALSCALE:GREGORIAN
PRODID:-//Diputació de Barcelona//DibaCMS//EN
BEGIN:VEVENT
UID:1624
DTSTAMP:20260422T102822
DTSTART:20181206T000000
DTEND:20181216T140000
SUMMARY:Torneig de pàdel per la Marató
LOCATION:
METHOD:PUBLISH
X-WR-CALNAME:perafita@perafita.cat
X-WR-TIMEZONE:Europe/Madrid
DESCRIPTION:Torneig de pàdel a benefici de La Marató de TV3, del 6 al 16 de desembre.

 

URI:https://www.perafita.cat/actualitat/agenda/torneig-de-padel-per-la-marato.html
CLASS:PUBLIC
END:VEVENT
END:VCALENDAR
