BEGIN:VCALENDAR
VERSION:2.0
CALSCALE:GREGORIAN
PRODID:-//Diputació de Barcelona//DibaCMS//EN
BEGIN:VEVENT
UID:1623
DTSTAMP:20260420T094052
DTSTART:20181129T150000
DTEND:20181129T190000
SUMMARY:Taller: Alimentació saludable (dirigit a gent gran)
LOCATION:
METHOD:PUBLISH
X-WR-CALNAME:perafita@perafita.cat
X-WR-TIMEZONE:Europe/Madrid
DESCRIPTION:El taller es durà a terme el dijous 29 de novembre al Niu, de 3 a 7 de la tarda.

 

URI:https://www.perafita.cat/actualitat/agenda/taller-alimentacio-saludable-dirigit-a-gent-gran.html
CLASS:PUBLIC
END:VEVENT
END:VCALENDAR
