BEGIN:VCALENDAR
VERSION:2.0
CALSCALE:GREGORIAN
PRODID:-//Diputació de Barcelona//DibaCMS//EN
BEGIN:VEVENT
UID:1606
DTSTAMP:20260420T075938
DTSTART:20181109T160000
DTEND:20181109T170000
SUMMARY:Activitats i habilitats per a la gent gran
LOCATION:Carrer Major, 4 baixos -edifici antic Ajuntament- 08589 Perafita
METHOD:PUBLISH
X-WR-CALNAME:perafita@perafita.cat
X-WR-TIMEZONE:Europe/Madrid
DESCRIPTION:Estimulació de la memòria, antenció i pensament

Del 9 al 30 de novembre cada divendres de 4 a 5 de la tarda

Per més informació i/o inscripcions trucar a:

Ajuntament de Perafita - 93 853 00 01

Ivette Costa - 606 13 16 30

URI:https://www.perafita.cat/actualitat/agenda/activitats-i-habilitats-per-a-la-gent-gran.html
CLASS:PUBLIC
END:VEVENT
END:VCALENDAR
