BEGIN:VCALENDAR
VERSION:2.0
CALSCALE:GREGORIAN
PRODID:-//Diputació de Barcelona//DibaCMS//EN
BEGIN:VEVENT
UID:1589
DTSTAMP:20260422T103027
DTSTART:20181007T090000
DTEND:20181007T120000
SUMMARY:Festa del Remei
LOCATION:
METHOD:PUBLISH
X-WR-CALNAME:perafita@perafita.cat
X-WR-TIMEZONE:Europe/Madrid
DESCRIPTION:A les 9 del matí Esmorzar de germanor

A les 11 del matí Missa en honor a la Mare de Déu del Remei (amb cantada dels goigs)

Per acabar com cada any, es sortejarà un record obsequi

URI:https://www.perafita.cat/actualitat/agenda/1589-festa-del-remei.html
CLASS:PUBLIC
END:VEVENT
END:VCALENDAR
