BEGIN:VCALENDAR
VERSION:2.0
CALSCALE:GREGORIAN
PRODID:-//Diputació de Barcelona//DibaCMS//EN
BEGIN:VEVENT
UID:1553
DTSTAMP:20260420T182159
DTSTART:20181117T100000
DTEND:20181117T130000
SUMMARY:Taller d'estampació de tampons (EMAL)
LOCATION:Corredor 1 d'Octubre 08589 Perafita
METHOD:PUBLISH
X-WR-CALNAME:perafita@perafita.cat
X-WR-TIMEZONE:Europe/Madrid
DESCRIPTION:Tallerista:​ Carla Aledo, il·lustradora i dissenyadora gràfica

Presentació del taller:  En aquest taller donarem ales a la creativitat de les persones participants a partir de materials que probablement no acostumen a tenir a l’abast com son els tampons de goma.  Experimentarem amb les tècniques per a crear tampons personalitzats que utilitzarem després per a crear bonics estampats.  

 

URI:https://www.perafita.cat/actualitat/agenda/taller-destampacio-de-tampons-emal.html
CLASS:PUBLIC
END:VEVENT
END:VCALENDAR
