BEGIN:VCALENDAR
VERSION:2.0
CALSCALE:GREGORIAN
PRODID:-//Diputació de Barcelona//DibaCMS//EN
BEGIN:VEVENT
UID:1545
DTSTAMP:20260422T120032
DTSTART:20180907T090000
DTEND:20180912T140000
SUMMARY:Exposició «L'intent d'anorrear un poble... 1714-1725»
LOCATION:Carrer Major, 4 baixos -edifici antic Ajuntament- 08589 Perafita
METHOD:PUBLISH
X-WR-CALNAME:perafita@perafita.cat
X-WR-TIMEZONE:Europe/Madrid
DESCRIPTION:Del 7 al 12 de setembre Perafita exposarà "L'intent d'anorrear un poble... 1714-1725". D'aquesta manera el NIU acollirà la mostra que repassa fons documentals originals sobre la repressió i la resistència catalana durant aquesta època. Està feta en base als treballs de recerca dels investigadors Antoni Muñoz i Josep Catà, que van utilitzar aquesta recerca per publicar l'any 2005 el seu llibre Repressió Borbònica i Resistència Catalana 1714-1736.

URI:https://www.perafita.cat/actualitat/agenda/exposicio-lintent-danorrear-un-poble-1714-1725.html
CLASS:PUBLIC
END:VEVENT
END:VCALENDAR
