BEGIN:VCALENDAR
VERSION:2.0
CALSCALE:GREGORIAN
PRODID:-//Diputació de Barcelona//DibaCMS//EN
BEGIN:VEVENT
UID:1539
DTSTAMP:20260420T165935
DTSTART:20180901T073000
DTEND:20180901T120000
SUMMARY:30a Caminada Perafita - Els Munts
LOCATION:
METHOD:PUBLISH
X-WR-CALNAME:perafita@perafita.cat
X-WR-TIMEZONE:Europe/Madrid
DESCRIPTION:La 30a Caminada PERAFITA – ELS MUNTS

Dia:   dissabte 1 de setembre

Hora:   7:30h del matí

Lloc de sortida : Plaça Sant Antoni

En arribar al Santuari dels Munts hi haurà Esmorzar popular per tothom (preu del tiquet 3 €)

Informació i inscripcions:  

Ajuntament de Perafita (93 853 00 01, de 10h a 14h)

Data límit d’inscripció per l’esmorzar: dijous 30 d’agost

URI:https://www.perafita.cat/actualitat/agenda/30a-caminada-perafita-els-munts.html
CLASS:PUBLIC
END:VEVENT
END:VCALENDAR
