BEGIN:VCALENDAR
VERSION:2.0
CALSCALE:GREGORIAN
PRODID:-//Diputació de Barcelona//DibaCMS//EN
BEGIN:VEVENT
UID:1495
DTSTAMP:20260422T102700
DTSTART:20180701T193000
DTEND:20180701T210000
SUMMARY:Havaneres amb la Ribera i rom cremat
LOCATION:
METHOD:PUBLISH
X-WR-CALNAME:perafita@perafita.cat
X-WR-TIMEZONE:Europe/Madrid
DESCRIPTION:A la plaça de l'Església, per acabar la Festa Major, havaneres i rom cremat!

URI:https://www.perafita.cat/actualitat/agenda/havaneres-amb-la-ribera-i-rom-cremat.html
CLASS:PUBLIC
END:VEVENT
END:VCALENDAR
